BEGIN:VCALENDAR
VERSION:2.0
PRODID:-//YourSite//Calendar//EN
CALSCALE:GREGORIAN
BEGIN:VEVENT
UID:69e61ce3cd10b@yoursite.com
DTSTAMP:20260420T123235Z
DTSTART:20250804T093000Z
DTEND:20250804T103000Z
SUMMARY:Open Meeting - Agentic Security Working Group
DESCRIPTION:Bi-Weekly initiative meeting.

LOCATION:https://genai.owasp.org/event/open-meeting-agentic-security-working-group/
END:VEVENT
END:VCALENDAR
